BEGIN:VCALENDAR
VERSION:2.0
PRODID:-//Pro Bono Program - ECPv5.16.4//NONSGML v1.0//EN
CALSCALE:GREGORIAN
METHOD:PUBLISH
X-WR-CALNAME:Pro Bono Program
X-ORIGINAL-URL:https://probono.law.sc.edu
X-WR-CALDESC:Events for Pro Bono Program
BEGIN:VTIMEZONE
TZID:America/New_York
BEGIN:DAYLIGHT
TZOFFSETFROM:-0500
TZOFFSETTO:-0400
TZNAME:EDT
DTSTART:20210314T070000
END:DAYLIGHT
BEGIN:STANDARD
TZOFFSETFROM:-0400
TZOFFSETTO:-0500
TZNAME:EST
DTSTART:20211107T060000
END:STANDARD
END:VTIMEZONE
BEGIN:VEVENT
DTSTART;TZID=America/New_York:20210119T133000
DTEND;TZID=America/New_York:20210119T143000
DTSTAMP:20260423T063141
CREATED:20210114T200048Z
LAST-MODIFIED:20210114T200048Z
UID:1990-1611063000-1611066600@probono.law.sc.edu
SUMMARY:VITA Q and A session
DESCRIPTION:Learn more about the different roles that make up the Volunteer Income Tax Assistance Team. How to get certified\, what is new for 2021 and a new project to help those in the military. \nJoin Professors Wallace and Davis and Pam Robinson to get all the stuff you need to help prepare taxes \nZoom link below
URL:https://probono.law.sc.edu/event/vita-q-and-a-session/
CATEGORIES:VITA
END:VEVENT
END:VCALENDAR