BEGIN:VCALENDAR
VERSION:2.0
PRODID:-//Pro Bono Program - ECPv5.16.4//NONSGML v1.0//EN
CALSCALE:GREGORIAN
METHOD:PUBLISH
X-WR-CALNAME:Pro Bono Program
X-ORIGINAL-URL:https://probono.law.sc.edu
X-WR-CALDESC:Events for Pro Bono Program
BEGIN:VTIMEZONE
TZID:America/New_York
BEGIN:DAYLIGHT
TZOFFSETFROM:-0500
TZOFFSETTO:-0400
TZNAME:EDT
DTSTART:20200308T070000
END:DAYLIGHT
BEGIN:STANDARD
TZOFFSETFROM:-0400
TZOFFSETTO:-0500
TZNAME:EST
DTSTART:20201101T060000
END:STANDARD
END:VTIMEZONE
BEGIN:VEVENT
DTSTART;VALUE=DATE:20200123
DTEND;VALUE=DATE:20200125
DTSTAMP:20260419T173703
CREATED:20200102T173220Z
LAST-MODIFIED:20200102T173220Z
UID:1544-1579737600-1579910399@probono.law.sc.edu
SUMMARY:SC Bar Convention Special Blitz. Days
DESCRIPTION:This special Blitz will match teams of 4 students in shifts of 2 hours with lawyers attending the SC Bar Convention at the Columbia Convention Center. Each team will respond to questions posted by the public to www.SC.FreeLegalAnswers.org \nSign up for a shift at this link: https://www.signupgenius.com/go/20F0445A8A82EA1FC1-scbarconvention \nLaptop required. No additional training needed but experience at at Friday Blitz is preferred. \n 
URL:https://probono.law.sc.edu/event/sc-bar-convention-special-blitz-days/
CATEGORIES:Friday Blitz
END:VEVENT
END:VCALENDAR