BEGIN:VCALENDAR
VERSION:2.0
PRODID:-//Pro Bono Program - ECPv5.16.4//NONSGML v1.0//EN
CALSCALE:GREGORIAN
METHOD:PUBLISH
X-WR-CALNAME:Pro Bono Program
X-ORIGINAL-URL:https://probono.law.sc.edu
X-WR-CALDESC:Events for Pro Bono Program
BEGIN:VTIMEZONE
TZID:America/New_York
BEGIN:DAYLIGHT
TZOFFSETFROM:-0500
TZOFFSETTO:-0400
TZNAME:EDT
DTSTART:20210314T070000
END:DAYLIGHT
BEGIN:STANDARD
TZOFFSETFROM:-0400
TZOFFSETTO:-0500
TZNAME:EST
DTSTART:20211107T060000
END:STANDARD
END:VTIMEZONE
BEGIN:VEVENT
DTSTART;TZID=America/New_York:20210918T080000
DTEND;TZID=America/New_York:20210918T170000
DTSTAMP:20260422T184204
CREATED:20210903T141741Z
LAST-MODIFIED:20210903T141741Z
UID:3241-1631952000-1631984400@probono.law.sc.edu
SUMMARY:Rental Assistance in Barnwell
DESCRIPTION:Teams of trained law student will travel to Barnwell\, SC to help clients apply for rental assistance. Sign up as an extra resource or if you speak Spanish and would be willing to help with interpreting. https://www.signupgenius.com/go/20f0445a8a82ea1fc1-rental
URL:https://probono.law.sc.edu/event/rental-assistance-in-barnwell/
CATEGORIES:Rental Assistance Clinic
END:VEVENT
END:VCALENDAR