BEGIN:VCALENDAR
VERSION:2.0
PRODID:-//Pro Bono Program - ECPv5.16.4//NONSGML v1.0//EN
CALSCALE:GREGORIAN
METHOD:PUBLISH
X-WR-CALNAME:Pro Bono Program
X-ORIGINAL-URL:https://probono.law.sc.edu
X-WR-CALDESC:Events for Pro Bono Program
BEGIN:VTIMEZONE
TZID:America/New_York
BEGIN:DAYLIGHT
TZOFFSETFROM:-0500
TZOFFSETTO:-0400
TZNAME:EDT
DTSTART:20210314T070000
END:DAYLIGHT
BEGIN:STANDARD
TZOFFSETFROM:-0400
TZOFFSETTO:-0500
TZNAME:EST
DTSTART:20211107T060000
END:STANDARD
END:VTIMEZONE
BEGIN:VEVENT
DTSTART;TZID=America/New_York:20211103T120000
DTEND;TZID=America/New_York:20211103T140000
DTSTAMP:20260421T182620
CREATED:20210922T133724Z
LAST-MODIFIED:20210927T144949Z
UID:4272-1635940800-1635948000@probono.law.sc.edu
SUMMARY:Hunger is NOT a (Crock) Pot
DESCRIPTION:This annual fundraiser for Harvest Hope Food Bank is a favorite. Students get to show off their culinary skills and submit a crockpot of soup. For $5 attendees get a cup\, spoon and the opportunity to taste as much soup as possible. The variety is amazing and all homemade!to Sign up to bring soup\, check out this link: https://www.signupgenius.com/go/20f0445a8a82ea1fc1-hunger1 \nWant to create a culinary masterpiece but no crockpot? Not to worry\, we have an extra. \n 
URL:https://probono.law.sc.edu/event/hunger-is-not-a-crock-pot-3/
LOCATION:Perrin Lobby
CATEGORIES:Hunger is NOT a Crockpot
END:VEVENT
END:VCALENDAR