BEGIN:VCALENDAR
VERSION:2.0
PRODID:-//Pro Bono Program - ECPv5.16.4//NONSGML v1.0//EN
CALSCALE:GREGORIAN
METHOD:PUBLISH
X-WR-CALNAME:Pro Bono Program
X-ORIGINAL-URL:https://probono.law.sc.edu
X-WR-CALDESC:Events for Pro Bono Program
BEGIN:VTIMEZONE
TZID:America/New_York
BEGIN:DAYLIGHT
TZOFFSETFROM:-0500
TZOFFSETTO:-0400
TZNAME:EDT
DTSTART:20180311T070000
END:DAYLIGHT
BEGIN:STANDARD
TZOFFSETFROM:-0400
TZOFFSETTO:-0500
TZNAME:EST
DTSTART:20181104T060000
END:STANDARD
END:VTIMEZONE
BEGIN:VEVENT
DTSTART;TZID=America/New_York:20181105T120000
DTEND;TZID=America/New_York:20181105T133000
DTSTAMP:20260421T201032
CREATED:20181005T132356Z
LAST-MODIFIED:20181005T132356Z
UID:936-1541419200-1541424600@probono.law.sc.edu
SUMMARY:Hunger is NOT a (Crock) Pot
DESCRIPTION:This annual soup competition kicks off the Fall Food Drive but also raises funds for Harvest Hope Food Bank’s Backpack Program‘- an effort to send children home with food for the weekend! \neach team\, organization or individual prepares a crockpot of soup\, chowder\, gumbo\, stew\, brings it  the Perrin Lobby \,hot and ready to serve at 12 on Monday\, Nov. 5th. \nAttendees pay $5 and can eat as much soup as they want\, until the last noodle! \nWant to enter a pot of soup? Simple sign up here: https://www.signupgenius.com/go/20f0445a8a82ea1fc1-hunger
URL:https://probono.law.sc.edu/event/hunger-is-not-a-crock-pot-2/
LOCATION:Perrin Lobby
CATEGORIES:Fall Food Drive
END:VEVENT
END:VCALENDAR