BEGIN:VCALENDAR
VERSION:2.0
PRODID:-//Pro Bono Program - ECPv5.16.4//NONSGML v1.0//EN
CALSCALE:GREGORIAN
METHOD:PUBLISH
X-WR-CALNAME:Pro Bono Program
X-ORIGINAL-URL:https://probono.law.sc.edu
X-WR-CALDESC:Events for Pro Bono Program
BEGIN:VTIMEZONE
TZID:America/New_York
BEGIN:DAYLIGHT
TZOFFSETFROM:-0500
TZOFFSETTO:-0400
TZNAME:EDT
DTSTART:20190310T070000
END:DAYLIGHT
BEGIN:STANDARD
TZOFFSETFROM:-0400
TZOFFSETTO:-0500
TZNAME:EST
DTSTART:20191103T060000
END:STANDARD
END:VTIMEZONE
BEGIN:VEVENT
DTSTART;VALUE=DATE:20190318
DTEND;VALUE=DATE:20190319
DTSTAMP:20260423T112039
CREATED:20190311T174400Z
LAST-MODIFIED:20190311T174400Z
UID:1212-1552867200-1552953599@probono.law.sc.edu
SUMMARY:Deadline- new Board members and Awards
DESCRIPTION:Applications and Criteria for both new Pro Bono Program Board members and for the Outstanding Service Awards are located at: \nhttps://sc.edu/study/colleges_schools/law/internal/department/pro_bono/board.php \nhttps://sc.edu/study/colleges_schools/law/internal/department/pro_bono/awards.php \nYou snooze\, you lose!
URL:https://probono.law.sc.edu/event/deadline-new-board-members-and-awards/
CATEGORIES:Deadlne
END:VEVENT
END:VCALENDAR